Workbook
Name 契約区分: #REF!
Name 施設名: #REF!
Name 施設名: #REF!
Name 実施番号: #REF!
Name 認定こども園: #REF!
Name 理由: #REF!

Sheet 基本情報
A1: ※ 薄い黄色のセル■に入力してください。
A2: 年度 | C2: 令和7年度
A3: 氏名
A4: 生年月日
A5: 住所 | B5: 市町村・字・番地
B6: 建物名・部屋番号
A7: 電話番号
A8: 電子メールアドレス
A9: 勤務先の保育施設名
A10: 金融機関名
A11: 支店名
A12: 預金種類
A13: 口座番号
A14: 口座名義（カナ）

Sheet 申請_交付申請書
A1: ※ 薄い黄色のセル■に入力してください。
A2: ※ 薄い黄色のセル■に入力してください。セルの結合や、行と列の削除など、様式の形を変えないでください。
A3: ※ 薄い灰色のセル■は関数が入力されていますので、上書き等をしないでください。
A4: （第6条関係）
A5: 糸満市保育士奨学金返済支援事業補助金 交付申請書
O7: 令和 | R7: 年 | T7: 月 | V7: 日
B8: 糸満市長 殿
H9: 申請者 | J9: 住 所 | M9: =基本情報!C5&" "&基本情報!C6
J10: 氏 名 | M10: =IF(基本情報!C3="","",基本情報!C3)
J11: 生年月日 | M11: =IF(基本情報!C4="","",基本情報!C4)
J12: 電話番号 | M12: =IF(基本情報!C7="","",基本情報!C7)
J13: 電子メール | M13: =IF(基本情報!C8="","",基本情報!C8)
A15: 糸満市保育士奨学金返済支援事業補助金交付要綱第6条第1項の規定に基づき、次のとおり補助金を申請します。
A17: 1 | B17: 勤務先名 | C17: 4月 | M17: 10月
C18: 5月 | M18: 11月
C19: 6月 | M19: 12月
C20: 7月 | M20: 1月
C21: 8月 | M21: 2月
C22: 9月 | M22: 3月
C23: ※勤務先が次の月も同じ場合は「〃」と記載して構いません。
A24: 2 | B24: 奨学金等の名称
A25: 3 | B25: 奨学金等の返済状況 | C25: 返済月 | E25: 返済(予定)金額 | I25: 補助額 (月上限1万円) | M25: 返済月 | O25: 返済(予定)金額 | S25: 補助額 (月上限1万円)
C26: 4月 | H26: 円 | L26: 円 | M26: 10月 | R26: 円 | V26: 円
C27: 5月 | H27: 円 | L27: 円 | M27: 11月 | R27: 円 | V27: 円
C28: 6月 | H28: 円 | L28: 円 | M28: 12月 | R28: 円 | V28: 円
C29: 7月 | H29: 円 | L29: 円 | M29: 1月 | R29: 円 | V29: 円
C30: 8月 | H30: 円 | L30: 円 | M30: 2月 | R30: 円 | V30: 円
C31: 9月 | H31: 円 | L31: 円 | M31: 3月 | R31: 円 | V31: 円
C32: ※各月の補助額は、返済（予定）額が1万円未満の場合は、返済額をそのまま記載し、返済額が1万円以上の場合は1万円と記載すること。
A33: 4 | B33: 補助金交付申請額 | C33: =IF(SUM(I26:K31)+SUM(S26:U31)=0,"",SUM(I26:K31)+SUM(S26:U31)) | L33: 円 | M33: =IF(SUM(I26:K31)+SUM(S26:U31)>120000,"年間補助額上限の120,000円を超えています！","")
C34: ※上記の4月～3月までの補助額の合計
A35: 5 | B35: 確認事項 | C35: □ | D35: 奨学金は、自ら返済している。
C36: □ | D36: 本業と類似の補助制度を | J36: □ | K36: 受けている | N36: 月 | Q36: 円 | R36: □ | S36: 受けていない
C37: □ | D37: 糸満市が申請者の勤務状況を勤務先へ確認することに同意する。
A38: 6 | B38: 添付書類 | C38: □ | D38: 雇用証明書 | J38: □ | K38: 奨学金の貸付、返済計画を証明する書類のコピー
C39: □ | D39: 保育士証のコピー | J39: □ | K39: 補助金を振り込む口座またはキャッシュカードのコピー
C40: □ | D40: 保険証のコピー | J40: □ | K40: 保育士養成施設の卒業年月日がわかる書類のコピー

Sheet 申請_雇用証明書
A1: ※ 勤務している事業所に作成してもらってください。この様式以外の雇用証明書は不可です。
A2: ※ 薄い黄色のセル■に入力してください。セルの結合や、行と列の削除など、様式の形を変えないでください。
A3: ※ 薄い灰色のセル■は関数が入力されていますので、上書き等をしないでください。
A4: （第6条関係）
A5: 雇用証明書（交付申請時点）
K7: 令和 | M7: 年 | O7: 月 | Q7: 日
A8: 事業所名
A9: 雇用主名（代表者）
A10: 施設名 | O10: 印
A11: 施設所在地
A12: 電話番号
A14: 下記の者は、次のとおり在職していることを証明します。
A15: 氏名 | B15: =IF(基本情報!C3="","",基本情報!C3)
A16: 住所 | B16: =基本情報!C5&" "&基本情報!C6
A17: 勤務先 | B17: =IF(基本情報!C9="","",基本情報!C9)
A18: 採用・退職年月日 | C18: 採用 | K18: 退職
C19: 令和 | E19: 年 | G19: 月 | I19: 日 | J19: ～ | K19: 令和 | M19: 年 | O19: 月 | Q19: 日
K20: ※勤務中の場合、退職日は記入不要です。
A21: 雇用契約期間 | B21: □ | C21: 令和 | E21: 年 | G21: 月 | I21: 日 | J21: ～ | K21: 令和 | M21: 年 | O21: 月 | Q21: 日
B22: □ | C22: 雇用期間の定めなし
C23: ※既に退職されている場合でも、当初交わした契約期間を記入してください。
A24: 職種 | B24: □ | C24: 保育士 | F24: □ | G24: 保育士以外
A25: 就労形態 | C25: 週 | E25: 時間勤務 | G25: （1日 | I25: 時間 | J25: 週 | L25: 日）
C26: 月 | E26: 日勤務
A27: 勤務時間 | E27: 時 | G27: 分 | H27: ～ | J27: 時 | L27: 分 | M27: （休憩時間： | Q27: 分）
A28: 施設独自の奨学金返済支援 | B28: □ | C28: あり | D28: （上記の者に対する支援額： | L28: 円
B29: □ | C29: なし
A30: 社会保険または公立学校共済組合の適用 | B30: □ | C30: 適用あり | F30: □ | G30: 適用なし

Sheet 変更_変更交付申請書
A1: ※ 薄い黄色のセル■に入力してください。
A2: ※ 薄い黄色のセル■に入力してください。セルの結合や、行と列の削除など、様式の形を変えないでください。
A3: ※ 薄い灰色のセル■は関数が入力されていますので、上書き等をしないでください。
A4: （第7条関係）
A5: 糸満市保育士奨学金返済支援事業補助金 変更交付申請書
O7: 令和 | R7: 年 | T7: 月 | V7: 日
B8: 糸満市長 殿
H9: 申請者 | J9: 住 所 | M9: =基本情報!C5&" "&基本情報!C6
J10: 氏 名 | M10: =IF(基本情報!C3="","",基本情報!C3)
J11: 生年月日 | M11: =IF(基本情報!C4="","",基本情報!C4)
J12: 電話番号 | M12: =IF(基本情報!C7="","",基本情報!C7)
J13: 電子メール | M13: =IF(基本情報!C8="","",基本情報!C8)
A15: 糸満市保育士奨学金返済支援事業補助金交付要綱第7条第1項の規定に基づき、次のとおり補助金を申請します。
A17: 1 | B17: 勤務先名 | C17: 4月 | M17: 10月
C18: 5月 | M18: 11月
C19: 6月 | M19: 12月
C20: 7月 | M20: 1月
C21: 8月 | M21: 2月
C22: 9月 | M22: 3月
C23: ※勤務先が次の月も同じ場合は「〃」と記載して構いません。
A24: 2 | B24: 奨学金等の名称
A25: 3 | B25: 返済状況 | C25: 返済月 | E25: 返済(予定)金額 | I25: 補助額 (月上限1万円) | M25: 返済月 | O25: 返済(予定)金額 | S25: 補助額 (月上限1万円)
C26: 4月 | H26: 円 | L26: 円 | M26: 10月 | R26: 円 | V26: 円
C27: 5月 | H27: 円 | L27: 円 | M27: 11月 | R27: 円 | V27: 円
C28: 6月 | H28: 円 | L28: 円 | M28: 12月 | R28: 円 | V28: 円
C29: 7月 | H29: 円 | L29: 円 | M29: 1月 | R29: 円 | V29: 円
C30: 8月 | H30: 円 | L30: 円 | M30: 2月 | R30: 円 | V30: 円
C31: 9月 | H31: 円 | L31: 円 | M31: 3月 | R31: 円 | V31: 円
C32: ※各月の補助額は、返済（予定）額が1万円未満の場合は、返済額をそのまま記載し、返済額が1万円以上の場合は1万円と記載すること。
A33: 4 | B33: 補助金交付申請額 | C33: =IF(SUM(I26:K31)+SUM(S26:U31)=0,"",SUM(I26:K31)+SUM(S26:U31)) | L33: 円 | M33: =IF(SUM(I26:K31)+SUM(S26:U31)>120000,"年間補助額上限の120,000円を超えています！","")
C34: ※上記の4月～3月までの補助額の合計
A35: 5 | B35: 確認事項 | C35: □ | D35: 奨学金は、自ら返済している。
C36: □ | D36: 本業と類似の補助制度を | J36: □ | K36: 受けている | N36: 月 | Q36: 円 | R36: □ | S36: 受けていない
C37: □ | D37: 糸満市が申請者の勤務状況を勤務先へ確認することに同意する。
A38: 6 | B38: 添付書類 | C38: □ | D38: 奨学金の貸付、返済計画を証明する書類のコピー
C39: □ | D39: 補助対象期間における各月の奨学金の引き落としが確認できる通帳のコピー

Sheet 変更_雇用証明書
A1: ※ 勤務している事業所に作成してもらってください。この様式以外の雇用証明書は不可です。
A2: ※ 薄い黄色のセル■に入力してください。セルの結合や、行と列の削除など、様式の形を変えないでください。
A3: ※ 薄い灰色のセル■は関数が入力されていますので、上書き等をしないでください。
A4: （第6条関係）
A5: 雇用証明書（変更交付申請時点）
K7: 令和 | M7: 年 | O7: 月 | Q7: 日
A8: 事業所名
A9: 雇用主名（代表者）
A10: 施設名 | O10: 印
A11: 施設所在地
A12: 電話番号
A14: 下記の者は、次のとおり在職していることを証明します。
A15: 氏名 | B15: =IF(基本情報!C3="","",基本情報!C3)
A16: 住所 | B16: =基本情報!C5&" "&基本情報!C6
A17: 勤務先 | B17: =IF(基本情報!C9="","",基本情報!C9)
A18: 採用・退職年月日 | C18: 採用 | K18: 退職
C19: 令和 | E19: 年 | G19: 月 | I19: 日 | J19: ～ | K19: 令和 | M19: 年 | O19: 月 | Q19: 日
K20: ※勤務中の場合、退職日は記入不要です。
A21: 雇用契約期間 | B21: □ | C21: 令和 | E21: 年 | G21: 月 | I21: 日 | J21: ～ | K21: 令和 | M21: 年 | O21: 月 | Q21: 日
B22: □ | C22: 雇用期間の定めなし
C23: ※既に退職されている場合でも、当初交わした契約期間を記入してください。
A24: 職種 | B24: □ | C24: 保育士 | F24: □ | G24: 保育士以外
A25: 就労形態 | C25: 週 | E25: 時間勤務 | G25: （1日 | I25: 時間 | J25: 週 | L25: 日）
C26: 月 | E26: 日勤務
A27: 勤務時間 | E27: 時 | G27: 分 | H27: ～ | J27: 時 | L27: 分 | M27: （休憩時間： | Q27: 分）
A28: 施設独自の奨学金返済支援 | B28: □ | C28: あり | D28: （上記の者に対する支援額： | L28: 円
B29: □ | C29: なし
A30: 社会保険または公立学校共済組合の適用 | B30: □ | C30: 適用あり | F30: □ | G30: 適用なし

Sheet 取下申請書
A1: ※ 薄い黄色のセル■に入力してください。セルの結合や、行と列の削除など、様式の形を変えないでください。
A2: ※ 薄い灰色のセル■は関数が入力されていますので、上書き等をしないでください。
A3: 様式第1号（第5条関係）
D5: 令和 年 月 日
A7: 糸満市長 殿
B9: 住 所 | C9: =基本情報!C5&" "&基本情報!C6
B10: 氏 名 | C10: =IF(基本情報!C3="","",基本情報!C3) | E10: 印
A12: =基本情報!C2&"糸満市保育士奨学金返済支援事業補助金取下申請書" -> 令和7年度糸満市保育士奨学金返済支援事業補助金取下申請書
A14: 糸満市保育士奨学金返済支援事業補助金交付要綱第8条第1項の規定に基づき、補助事業を取下げしたいので申請します。
A16: 記
A18: 1 | B18: 取下げ理由

Sheet 実績_実績報告書
A1: ※ 薄い黄色のセル■に入力してください。
A2: ※ 薄い黄色のセル■に入力してください。セルの結合や、行と列の削除など、様式の形を変えないでください。
A3: ※ 薄い灰色のセル■は関数が入力されていますので、上書き等をしないでください。
A4: （第9条関係）
A5: 糸満市保育士奨学金返済支援事業補助金 実績報告書
O7: 令和 | R7: 年 | T7: 月 | V7: 日
B8: 糸満市長 殿
H9: 申請者 | J9: 住 所 | M9: =基本情報!C5&" "&基本情報!C6
J10: 氏 名 | M10: =IF(基本情報!C3="","",基本情報!C3)
J11: 生年月日 | M11: =IF(基本情報!C4="","",基本情報!C4)
J12: 電話番号 | M12: =IF(基本情報!C7="","",基本情報!C7)
J13: 電子メール | M13: =IF(基本情報!C8="","",基本情報!C8)
A15: 糸満市保育士奨学金返済支援事業補助金交付要綱第9条の規定に基づき、次のとおり報告します。
A17: 1 | B17: 勤務先名 | C17: 4月 | M17: 10月
C18: 5月 | M18: 11月
C19: 6月 | M19: 12月
C20: 7月 | M20: 1月
C21: 8月 | M21: 2月
C22: 9月 | M22: 3月
C23: ※勤務先が次の月も同じ場合は「〃」と記載して構いません。
A24: 2 | B24: 奨学金等の名称
A25: 3 | B25: 返済状況 | C25: 返済月 | E25: 返済(予定)金額 | I25: 補助額 (月上限1万円) | M25: 返済月 | O25: 返済(予定)金額 | S25: 補助額 (月上限1万円)
C26: 4月 | H26: 円 | L26: 円 | M26: 10月 | R26: 円 | V26: 円
C27: 5月 | H27: 円 | L27: 円 | M27: 11月 | R27: 円 | V27: 円
C28: 6月 | H28: 円 | L28: 円 | M28: 12月 | R28: 円 | V28: 円
C29: 7月 | H29: 円 | L29: 円 | M29: 1月 | R29: 円 | V29: 円
C30: 8月 | H30: 円 | L30: 円 | M30: 2月 | R30: 円 | V30: 円
C31: 9月 | H31: 円 | L31: 円 | M31: 3月 | R31: 円 | V31: 円
C32: ※各月の補助額は、返済（予定）額が1万円未満の場合は、返済額をそのまま記載し、返済額が1万円以上の場合は1万円と記載すること。
A33: 4 | B33: 補助金精算額 | C33: =IF(SUM(I26:K31)+SUM(S26:U31)=0,"",SUM(I26:K31)+SUM(S26:U31)) | L33: 円 | M33: =IF(SUM(I26:K31)+SUM(S26:U31)>120000,"年間補助額上限の120,000円を超えています！","")
C34: ※上記の4月～3月までの補助額の合計
A35: 5 | B35: 確認事項 | C35: □ | D35: 奨学金は、自ら返済した。
C36: □ | D36: 本業と類似の補助制度を | J36: □ | K36: 受けている | N36: 月 | Q36: 円 | R36: □ | S36: 受けていない
A38: 6 | B38: 添付書類 | C38: □ | D38: 雇用証明書
C39: □ | D39: 補助対象期間における各月の奨学金の引き落としが確認できる通帳のコピー
C40: □ | D40: 糸満市保育士奨学金返済支援事業補助金交付請求書

Sheet 実績_雇用証明書
A1: ※ 勤務している事業所に作成してもらってください。この様式以外の雇用証明書は不可です。
A2: ※ 薄い黄色のセル■に入力してください。セルの結合や、行と列の削除など、様式の形を変えないでください。
A3: ※ 薄い灰色のセル■は関数が入力されていますので、上書き等をしないでください。
A4: （第9条関係）
A5: 雇用証明書（実績報告時点）
K7: 令和 | M7: 年 | O7: 月 | Q7: 日
A8: 事業所名
A9: 雇用主名（代表者）
A10: 施設名 | O10: 印
A11: 施設所在地
A12: 電話番号
A14: 下記の者は、次のとおり在職していることを証明します。
A15: 氏名 | B15: =IF(基本情報!C3="","",基本情報!C3)
A16: 住所 | B16: =基本情報!C5&" "&基本情報!C6
A17: 勤務先 | B17: =IF(基本情報!C9="","",基本情報!C9)
A18: 採用・退職年月日 | C18: 採用 | K18: 退職
C19: 令和 | E19: 年 | G19: 月 | I19: 日 | J19: ～ | K19: 令和 | M19: 年 | O19: 月 | Q19: 日
K20: ※勤務中の場合、退職日は記入不要です。
A21: 雇用契約期間 | B21: □ | C21: 令和 | E21: 年 | G21: 月 | I21: 日 | J21: ～ | K21: 令和 | M21: 年 | O21: 月 | Q21: 日
B22: □ | C22: 雇用期間の定めなし
C23: ※既に退職されている場合でも、当初交わした契約期間を記入してください。
A24: 職種 | B24: □ | C24: 保育士 | F24: □ | G24: 保育士以外
A25: 就労形態 | C25: 週 | E25: 時間勤務 | G25: （1日 | I25: 時間 | J25: 週 | L25: 日）
C26: 月 | E26: 日勤務
A27: 勤務時間 | E27: 時 | G27: 分 | H27: ～ | J27: 時 | L27: 分 | M27: （休憩時間： | Q27: 分）
A28: 施設独自の奨学金返済支援 | B28: □ | C28: あり | D28: （上記の者に対する支援額： | L28: 円
B29: □ | C29: なし
A30: 社会保険または公立学校共済組合の適用 | B30: □ | C30: 適用あり | F30: □ | G30: 適用なし

Sheet 請求書
A1: ※ 薄い黄色のセル■に入力してください。セルの結合や、行と列の削除など、様式の形を変えないでください。
A2: ※ 薄い灰色のセル■は関数が入力されていますので、上書き等をしないでください。
A3: （第9条関係） | K3: 交付確定額
A5: 糸満市保育士奨学金返済支援事業補助金交付請求書
B7: 請求額 | C7: 拾 | D7: 万 | E7: 千 | F7: 百 | G7: 拾 | H7: 円
C8: =IF(D8="","",IF(D8="￥","",IF($L3<100000,"￥",LEFT(RIGHT($L3,6),1)))) | D8: =IF(E8="","",IF(E8="￥","",IF($L3<10000,"￥",LEFT(RIGHT($L3,5),1)))) | E8: =IF(F8="","",IF(F8="￥","",IF($L3<1000,"￥",LEFT(RIGHT($L3,4),1)))) | F8: =IF(G8="","",IF(G8="￥","",IF($L3<100,"￥",LEFT(RIGHT($L3,3),1)))) | G8: =IF($L3<10,"￥",LEFT(RIGHT($L3,2),1)) -> ￥ | H8: =IF($L3=0,0,LEFT(RIGHT($L3,1),1)) -> 0
B10: 補助金確定額 | C10: 拾 | D10: 万 | E10: 千 | F10: 百 | G10: 拾 | H10: 円
C11: =IF(D11="","",IF(D11="￥","",IF($L3<100000,"￥",LEFT(RIGHT($L3,6),1)))) | D11: =IF(E11="","",IF(E11="￥","",IF($L3<10000,"￥",LEFT(RIGHT($L3,5),1)))) | E11: =IF(F11="","",IF(F11="￥","",IF($L3<1000,"￥",LEFT(RIGHT($L3,4),1)))) | F11: =IF(G11="","",IF(G11="￥","",IF($L3<100,"￥",LEFT(RIGHT($L3,3),1)))) | G11: =IF($L3<10,"￥",LEFT(RIGHT($L3,2),1)) -> ￥ | H11: =IF($L3=0,0,LEFT(RIGHT($L3,1),1)) -> 0
B13: 上記のとおり請求します。
B15: 令和 年 月 日
B17: 糸満市長 殿
D18: 住 所 | E18: =基本情報!C5 -> 0
E19: =基本情報!C6 -> 0
D21: 氏 名 | E21: =基本情報!C3 -> 0 | H21: 印
B23: 銀行名・支店名 | C23: =基本情報!C10&" "&基本情報!C11
B24: 預金の種類 | C24: =基本情報!C12 -> 0
B25: 口座番号 | C25: =基本情報!C13 -> 0
B26: 口座名義（カナ） | C26: =基本情報!C14 -> 0
